BEGIN:VCALENDAR
VERSION:2.0
PRODID:-//CharteDiversite//NONSGML Event//EN
CALSCALE:GREGORIAN
BEGIN:VEVENT
UID:20210722T101734-1017552975-charte-diversite
DTSTAMP;TZID=Europe/Paris:20210914T000000
DTSTART;TZID=Europe/Paris:20210914T000000
DTEND;TZID=Europe/Paris:20210914T000000
SUMMARY:Digital Skills Matchmaking
LOCATION:ICT Spring - European Convention Center / 4 Place de l'Europe / 1499 Luxembourg
END:VEVENT
END:VCALENDAR