BEGIN:VCALENDAR
VERSION:2.0
PRODID:-//CharteDiversite//NONSGML Event//EN
CALSCALE:GREGORIAN
BEGIN:VEVENT
UID:20210722T101740-1986454331-charte-diversite
DTSTAMP;TZID=Europe/Paris:20210920T000000
DTSTART;TZID=Europe/Paris:20210920T000000
DTEND;TZID=Europe/Paris:20210920T000000
SUMMARY:2021 EUROPEAN MOBILITY WEEK - Development plans for the Tramway in Luxembourg
LOCATION:Luxtram / 61 Circuit de La Foire Internationale / 1347 Luxembourg
END:VEVENT
END:VCALENDAR