BEGIN:VCALENDAR
VERSION:2.0
PRODID:-//CharteDiversite//NONSGML Event//EN
CALSCALE:GREGORIAN
BEGIN:VEVENT
UID:20210722T101736-928935230-charte-diversite
DTSTAMP;TZID=Europe/Paris:20210916T000000
DTSTART;TZID=Europe/Paris:20210916T000000
DTEND;TZID=Europe/Paris:20210916T000000
SUMMARY:2021 EUROPEAN MOBILITY WEEK - "Move Sustainably\, Stay Healthy"
LOCATION:
END:VEVENT
END:VCALENDAR