BEGIN:VCALENDAR
VERSION:2.0
PRODID:-//CharteDiversite//NONSGML Event//EN
CALSCALE:GREGORIAN
BEGIN:VEVENT
UID:20210722T101738-607769588-charte-diversite
DTSTAMP;TZID=Europe/Paris:20210917T000000
DTSTART;TZID=Europe/Paris:20210917T000000
DTEND;TZID=Europe/Paris:20210917T000000
SUMMARY:OUT OF THE BOX BUYERS CLUB – THE CIRCULAR ECONOMY THROUGH PURCHASING - INSPIRATIONAL WORKSHOP 
LOCATION:
END:VEVENT
END:VCALENDAR